BEGIN:VCALENDAR
VERSION:2.0
PRODID:-//Welcome to Godfrey&#039;s Pond - ECPv4.7.3//NONSGML v1.0//EN
CALSCALE:GREGORIAN
METHOD:PUBLISH
X-WR-CALNAME:Welcome to Godfrey&#039;s Pond
X-ORIGINAL-URL:https://godfreyspond.com
X-WR-CALDESC:Events for Welcome to Godfrey&#039;s Pond
BEGIN:VEVENT
DTSTART;TZID=America/New_York:20220507T090000
DTEND;TZID=America/New_York:20220507T170000
DTSTAMP:20260425T114000
CREATED:20220403T131808Z
LAST-MODIFIED:20220506T114810Z
UID:3702-1651914000-1651942800@godfreyspond.com
SUMMARY:Clubhouse Reserved
DESCRIPTION:Clubhouse Reserved \nBadame \n9:00am- 5:00pm \n
URL:https://godfreyspond.com/calendar/clubhouse-reserved-87/
CATEGORIES:Reservations
END:VEVENT
END:VCALENDAR