BEGIN:VCALENDAR
VERSION:2.0
PRODID:-//Welcome to Godfrey&#039;s Pond - ECPv4.7.3//NONSGML v1.0//EN
CALSCALE:GREGORIAN
METHOD:PUBLISH
X-WR-CALNAME:Welcome to Godfrey&#039;s Pond
X-ORIGINAL-URL:https://godfreyspond.com
X-WR-CALDESC:Events for Welcome to Godfrey&#039;s Pond
BEGIN:VEVENT
DTSTART;TZID=America/New_York:20231107T130000
DTEND;TZID=America/New_York:20231107T160000
DTSTAMP:20260421T221622
CREATED:20230920T211852Z
LAST-MODIFIED:20231220T220024Z
UID:4906-1699362000-1699372800@godfreyspond.com
SUMMARY:Clubhouse Reserved- Godfrey's Creative Crafters
DESCRIPTION:Clubhouse Reserved \n1:00pm- 4:00pm \n
URL:https://godfreyspond.com/calendar/clubhouse-reserved-godfreys-creative-crafters/
CATEGORIES:Reservations
END:VEVENT
END:VCALENDAR