BEGIN:VCALENDAR
VERSION:2.0
PRODID:-//Welcome to Godfrey&#039;s Pond - ECPv4.7.3//NONSGML v1.0//EN
CALSCALE:GREGORIAN
METHOD:PUBLISH
X-WR-CALNAME:Welcome to Godfrey&#039;s Pond
X-ORIGINAL-URL:https://godfreyspond.com
X-WR-CALDESC:Events for Welcome to Godfrey&#039;s Pond
BEGIN:VEVENT
DTSTART;TZID=America/New_York:20210626T103000
DTEND;TZID=America/New_York:20210626T170000
DTSTAMP:20260426T040503
CREATED:20210524T133044Z
LAST-MODIFIED:20210618T145450Z
UID:2793-1624703400-1624726800@godfreyspond.com
SUMMARY:Companion Retriever Hunting Challenge
DESCRIPTION:
URL:https://godfreyspond.com/calendar/companion-retriever-hunting-challenge-jim-beverly/
LOCATION:Godfrey’s Pond\, 7925 Godfrey’s Pond Road\, Bergen\, 14416\, United States
CATEGORIES:Event,Public
ATTACH;FMTTYPE=image/jpeg:https://godfreyspond.com/wp-content/uploads/2021/05/Training-Methods.jpg
END:VEVENT
END:VCALENDAR