BEGIN:VCALENDAR
VERSION:2.0
PRODID:-//Welcome to Godfrey&#039;s Pond - ECPv4.7.3//NONSGML v1.0//EN
CALSCALE:GREGORIAN
METHOD:PUBLISH
X-WR-CALNAME:Welcome to Godfrey&#039;s Pond
X-ORIGINAL-URL:https://godfreyspond.com
X-WR-CALDESC:Events for Welcome to Godfrey&#039;s Pond
BEGIN:VEVENT
DTSTART;TZID=America/New_York:20240323T113000
DTEND;TZID=America/New_York:20240323T150000
DTSTAMP:20260421T051922
CREATED:20231116T133214Z
LAST-MODIFIED:20240319T170821Z
UID:4966-1711193400-1711206000@godfreyspond.com
SUMMARY:Easter Egg Hunt!
DESCRIPTION:Members and Families: \nSave the date for this popular\, free family event at Godfrey’s Pond. Here are the details surrounding the event:\n\n1st Hunt at 11:30 a.m. for Age 0-4 years old\n2nd Hunt at 11:45 a.m. for Ages 5-8 years old\n3rd Hunt at 12:00 p.m. for Ages 9-12 years old\n\nCOMMITTEE MEMBERS: Please arrive at 11:00 a.m. to set up.\n
URL:https://godfreyspond.com/calendar/easter-egg-hunt-2/
LOCATION:Godfrey’s Pond\, 7925 Godfrey’s Pond Road\, Bergen\, 14416\, United States
CATEGORIES:Event,Public
ATTACH;FMTTYPE=image/jpeg:https://godfreyspond.com/wp-content/uploads/2023/11/Easter-Egg-Hunt-3.jpg
END:VEVENT
END:VCALENDAR