BEGIN:VCALENDAR
VERSION:2.0
PRODID:-//Welcome to Godfrey&#039;s Pond - ECPv4.7.3//NONSGML v1.0//EN
CALSCALE:GREGORIAN
METHOD:PUBLISH
X-WR-CALNAME:Welcome to Godfrey&#039;s Pond
X-ORIGINAL-URL:https://godfreyspond.com
X-WR-CALDESC:Events for Welcome to Godfrey&#039;s Pond
BEGIN:VEVENT
DTSTART;TZID=America/New_York:20231013T190000
DTEND;TZID=America/New_York:20231013T203000
DTSTAMP:20260421T182947
CREATED:20230207T135019Z
LAST-MODIFIED:20230207T135019Z
UID:4299-1697223600-1697229000@godfreyspond.com
SUMMARY:General Member Meeting
DESCRIPTION:Join us\, as Members\, in attending this meeting to review the business of Godfrey’s Pond.  We meet in the Clubhouse at 7:00 p.m. \n
URL:https://godfreyspond.com/calendar/general-member-meeting-15/
LOCATION:Godfrey’s Pond\, 7925 Godfrey’s Pond Road\, Bergen\, 14416\, United States
CATEGORIES:Meetings
ATTACH;FMTTYPE=image/png:https://godfreyspond.com/wp-content/uploads/2022/01/General-Member-Meeting.png
END:VEVENT
END:VCALENDAR