BEGIN:VCALENDAR
VERSION:2.0
PRODID:-//Welcome to Godfrey&#039;s Pond - ECPv4.7.3//NONSGML v1.0//EN
CALSCALE:GREGORIAN
METHOD:PUBLISH
X-WR-CALNAME:Welcome to Godfrey&#039;s Pond
X-ORIGINAL-URL:https://godfreyspond.com
X-WR-CALDESC:Events for Welcome to Godfrey&#039;s Pond
BEGIN:VEVENT
DTSTART;TZID=America/New_York:20240412T190000
DTEND;TZID=America/New_York:20240412T203000
DTSTAMP:20260421T053758
CREATED:20240312T212249Z
LAST-MODIFIED:20240312T212249Z
UID:5318-1712948400-1712953800@godfreyspond.com
SUMMARY:General Member Meeting
DESCRIPTION:Tonight is the General Member Meeting at 7:00 p.m. in the Clubhouse. Your attendance and participation is important to the business at Godfrey’s Pond. We look forward to seeing you! \n
URL:https://godfreyspond.com/calendar/general-member-meeting-19/
LOCATION:Godfrey’s Pond\, 7925 Godfrey’s Pond Road\, Bergen\, 14416\, United States
CATEGORIES:Meetings
ATTACH;FMTTYPE=image/png:https://godfreyspond.com/wp-content/uploads/2024/03/General-Member-Meeting.png
END:VEVENT
END:VCALENDAR