BEGIN:VCALENDAR
VERSION:2.0
PRODID:-//Welcome to Godfrey&#039;s Pond - ECPv4.7.3//NONSGML v1.0//EN
CALSCALE:GREGORIAN
METHOD:PUBLISH
X-WR-CALNAME:Welcome to Godfrey&#039;s Pond
X-ORIGINAL-URL:https://godfreyspond.com
X-WR-CALDESC:Events for Welcome to Godfrey&#039;s Pond
BEGIN:VEVENT
DTSTART;TZID=America/New_York:20220909T190000
DTEND;TZID=America/New_York:20220909T210000
DTSTAMP:20260425T003947
CREATED:20221021T154251Z
LAST-MODIFIED:20221021T154251Z
UID:4143-1662750000-1662757200@godfreyspond.com
SUMMARY:General Member Meeting - Clubhouse 7pm
DESCRIPTION:
URL:https://godfreyspond.com/calendar/general-member-meeting-clubhouse-7pm-2/
CATEGORIES:Meetings
END:VEVENT
END:VCALENDAR