BEGIN:VCALENDAR
VERSION:2.0
PRODID:-//Welcome to Godfrey&#039;s Pond - ECPv4.7.3//NONSGML v1.0//EN
CALSCALE:GREGORIAN
METHOD:PUBLISH
X-WR-CALNAME:Welcome to Godfrey&#039;s Pond
X-ORIGINAL-URL:https://godfreyspond.com
X-WR-CALDESC:Events for Welcome to Godfrey&#039;s Pond
BEGIN:VEVENT
DTSTART;TZID=America/New_York:20230210T190000
DTEND;TZID=America/New_York:20230210T203000
DTSTAMP:20260424T232053
CREATED:20230207T131522Z
LAST-MODIFIED:20230207T131522Z
UID:4267-1676055600-1676061000@godfreyspond.com
SUMMARY:General Membership Meeting
DESCRIPTION:Please join us\, as Members\, in the Clubhouse at 7:00 p.m. to participate in the business of Godfrey’s Pond. \n
URL:https://godfreyspond.com/calendar/general-membership-meeting/
LOCATION:Godfrey’s Pond\, 7925 Godfrey’s Pond Road\, Bergen\, 14416\, United States
CATEGORIES:Meetings
ATTACH;FMTTYPE=image/png:https://godfreyspond.com/wp-content/uploads/2022/01/General-Member-Meeting.png
END:VEVENT
END:VCALENDAR