BEGIN:VCALENDAR
VERSION:2.0
PRODID:-//Welcome to Godfrey&#039;s Pond - ECPv4.7.3//NONSGML v1.0//EN
CALSCALE:GREGORIAN
METHOD:PUBLISH
X-WR-CALNAME:Welcome to Godfrey&#039;s Pond
X-ORIGINAL-URL:https://godfreyspond.com
X-WR-CALDESC:Events for Welcome to Godfrey&#039;s Pond
BEGIN:VEVENT
DTSTART;TZID=America/New_York:20240901T170000
DTEND;TZID=America/New_York:20240901T183000
DTSTAMP:20260420T183758
CREATED:20240901T151154Z
LAST-MODIFIED:20240901T151154Z
UID:5968-1725210000-1725215400@godfreyspond.com
SUMMARY:Godfrey's Pond Labor Day Potluck Dinner!
DESCRIPTION:Members & Families: This get-together is a great opportunity to gather with our families and friends and share a meal in honor of Labor Day. We all deserve it don’t we?\n\nMeet us at the Camp B Pavilion where we will be serving Pulled Pork and Salt Potatoes. Please bring a dish-to-pass for your family to share. We look forward to being with you!\n
URL:https://godfreyspond.com/calendar/godfreys-pond-labor-day-potluck-dinner/
LOCATION:Godfrey’s Pond\, 7925 Godfrey’s Pond Road\, Bergen\, 14416\, United States
CATEGORIES:Event
ATTACH;FMTTYPE=image/png:https://godfreyspond.com/wp-content/uploads/2024/08/GP-Potluck-Dinner-2024.png
END:VEVENT
END:VCALENDAR