BEGIN:VCALENDAR
VERSION:2.0
PRODID:-//Welcome to Godfrey&#039;s Pond - ECPv4.7.3//NONSGML v1.0//EN
CALSCALE:GREGORIAN
METHOD:PUBLISH
X-WR-CALNAME:Welcome to Godfrey&#039;s Pond
X-ORIGINAL-URL:https://godfreyspond.com
X-WR-CALDESC:Events for Welcome to Godfrey&#039;s Pond
BEGIN:VEVENT
DTSTART;TZID=America/New_York:20221001T160000
DTEND;TZID=America/New_York:20221001T200000
DTSTAMP:20260424T210144
CREATED:20220218T165240Z
LAST-MODIFIED:20220924T150326Z
UID:3582-1664640000-1664654400@godfreyspond.com
SUMMARY:Halloween Trick-or-Treat Festivities!
DESCRIPTION:This family-fun event is enjoyed by all! \nCampers & Residents: Join us as we celebrate Halloween by gathering together for a Soup Fest in the Clubhouse at 4:00 p.m.\, Cider and Donuts in the Sloat Pavilion at 6:30 p.m. and ending the evening by visiting residents and campsites for a trick-or-treat adventure!\n\nFeel free to decorate your residences and campsites and pass out candy for the little ones. We look forward to your participation for this very fun evening!\n\nQuestions? Contact Cheryl Burrs at 585-880-8306.\n
URL:https://godfreyspond.com/calendar/halloween-festivities-2/
LOCATION:Godfrey’s Pond\, 7925 Godfrey’s Pond Road\, Bergen\, 14416\, United States
CATEGORIES:Event,Reservations
ATTACH;FMTTYPE=image/png:https://godfreyspond.com/wp-content/uploads/2022/09/Halloween-2022.png
END:VEVENT
END:VCALENDAR