BEGIN:VCALENDAR
VERSION:2.0
PRODID:-//Welcome to Godfrey&#039;s Pond - ECPv4.7.3//NONSGML v1.0//EN
CALSCALE:GREGORIAN
METHOD:PUBLISH
X-WR-CALNAME:Welcome to Godfrey&#039;s Pond
X-ORIGINAL-URL:https://godfreyspond.com
X-WR-CALDESC:Events for Welcome to Godfrey&#039;s Pond
BEGIN:VEVENT
DTSTART;TZID=America/New_York:20230902T170000
DTEND;TZID=America/New_York:20230902T190000
DTSTAMP:20260421T183303
CREATED:20230216T165525Z
LAST-MODIFIED:20230216T165525Z
UID:4390-1693674000-1693681200@godfreyspond.com
SUMMARY:Lonnie's Labor Day Chicken BBQ!
DESCRIPTION:Come enjoy this delicious chicken bbq hosted by Lonnie and her crew over at the Camp B Pavilion.  Get your tickets quickly as the date approaches – it’s a great fundraiser!  See you there! \n
URL:https://godfreyspond.com/calendar/lonnies-labor-day-chicken-bbq/
LOCATION:Godfrey’s Pond\, 7925 Godfrey’s Pond Road\, Bergen\, 14416\, United States
CATEGORIES:Event,Public
ATTACH;FMTTYPE=image/jpeg:https://godfreyspond.com/wp-content/uploads/2023/02/Chiavettas.jpg
END:VEVENT
END:VCALENDAR