BEGIN:VCALENDAR
VERSION:2.0
PRODID:-//Welcome to Godfrey&#039;s Pond - ECPv4.7.3//NONSGML v1.0//EN
CALSCALE:GREGORIAN
METHOD:PUBLISH
X-WR-CALNAME:Welcome to Godfrey&#039;s Pond
X-ORIGINAL-URL:https://godfreyspond.com
X-WR-CALDESC:Events for Welcome to Godfrey&#039;s Pond
BEGIN:VEVENT
DTSTART;TZID=America/New_York:20211210T190000
DTEND;TZID=America/New_York:20211210T203000
DTSTAMP:20260425T191305
CREATED:20210110T192030Z
LAST-MODIFIED:20211019T132129Z
UID:2373-1639162800-1639168200@godfreyspond.com
SUMMARY:Member Meeting- Nominations for Elections
DESCRIPTION:Member Meeting \n7:00 p.m. in Clubhouse \n
URL:https://godfreyspond.com/calendar/member-meeting-11/
LOCATION:Godfrey’s Pond\, 7925 Godfrey’s Pond Road\, Bergen\, 14416\, United States
CATEGORIES:Meetings
ATTACH;FMTTYPE=image/png:https://godfreyspond.com/wp-content/uploads/2021/01/General-Member-Meeting.png
END:VEVENT
END:VCALENDAR