BEGIN:VCALENDAR
VERSION:2.0
PRODID:-//Welcome to Godfrey&#039;s Pond - ECPv4.7.3//NONSGML v1.0//EN
CALSCALE:GREGORIAN
METHOD:PUBLISH
X-WR-CALNAME:Welcome to Godfrey&#039;s Pond
X-ORIGINAL-URL:https://godfreyspond.com
X-WR-CALDESC:Events for Welcome to Godfrey&#039;s Pond
BEGIN:VEVENT
DTSTART;TZID=America/New_York:20210801T080000
DTEND;TZID=America/New_York:20210801T110000
DTSTAMP:20260425T222816
CREATED:20210716T150051Z
LAST-MODIFIED:20210717T222843Z
UID:2974-1627804800-1627815600@godfreyspond.com
SUMMARY:Member Pancake Breakfast
DESCRIPTION:MEMBERS: We’d love to see you at this delicious event where you can have choices of Pancakes\, Scrambled Eggs\, Sausage\, Bacon\, Hash Browns\, Coffee and Juice.\n\nCooked by our wonderful volunteers down by the Pond Snack Shack\, gather together with us to enjoy this wonderful breakfast. Proceeds will benefit the Pond.\n
URL:https://godfreyspond.com/calendar/member-pancake-breakfast/
LOCATION:Godfrey’s Pond\, 7925 Godfrey’s Pond Road\, Bergen\, 14416\, United States
CATEGORIES:Event,Public
ATTACH;FMTTYPE=image/jpeg:https://godfreyspond.com/wp-content/uploads/2021/07/Hearty-Breakfast-scaled.jpg
END:VEVENT
END:VCALENDAR