BEGIN:VCALENDAR
VERSION:2.0
PRODID:-//Welcome to Godfrey&#039;s Pond - ECPv4.7.3//NONSGML v1.0//EN
CALSCALE:GREGORIAN
METHOD:PUBLISH
X-WR-CALNAME:Welcome to Godfrey&#039;s Pond
X-ORIGINAL-URL:https://godfreyspond.com
X-WR-CALDESC:Events for Welcome to Godfrey&#039;s Pond
BEGIN:VEVENT
DTSTART;VALUE=DATE:20240525
DTEND;VALUE=DATE:20240526
DTSTAMP:20260421T053518
CREATED:20231116T140312Z
LAST-MODIFIED:20240312T153932Z
UID:4987-1716595200-1716681599@godfreyspond.com
SUMMARY:Memorial Day Festivities!
DESCRIPTION:Members and Families:  Let’s observe and celebrate Memorial Day weekend!  Here’s a tentative line-up of events scheduled for you and your families. \nSaturday\, May 25\, 2024 \n2:00 – 4:00 p.m.:  Flag Crafts \n4:00 p.m.:  Memorial Day Parade \n  \n
URL:https://godfreyspond.com/calendar/memorial-day-festivities/
LOCATION:Godfrey’s Pond\, 7925 Godfrey’s Pond Road\, Bergen\, 14416\, United States
CATEGORIES:Event
ATTACH;FMTTYPE=image/jpeg:https://godfreyspond.com/wp-content/uploads/2023/11/Mem-Day-picnic.jpg
END:VEVENT
END:VCALENDAR