BEGIN:VCALENDAR
VERSION:2.0
PRODID:-//Welcome to Godfrey&#039;s Pond - ECPv4.7.3//NONSGML v1.0//EN
CALSCALE:GREGORIAN
METHOD:PUBLISH
X-WR-CALNAME:Welcome to Godfrey&#039;s Pond
X-ORIGINAL-URL:https://godfreyspond.com
X-WR-CALDESC:Events for Welcome to Godfrey&#039;s Pond
BEGIN:VEVENT
DTSTART;VALUE=DATE:20230501
DTEND;VALUE=DATE:20230502
DTSTAMP:20260424T084343
CREATED:20230216T162824Z
LAST-MODIFIED:20230216T162824Z
UID:4369-1682899200-1682985599@godfreyspond.com
SUMMARY:Move-In Day for Seasonal Campers with Winter Storage
DESCRIPTION:
URL:https://godfreyspond.com/calendar/move-in-day-for-seasonal-campers-with-winter-storage/
LOCATION:Godfrey’s Pond\, 7925 Godfrey’s Pond Road\, Bergen\, 14416\, United States
CATEGORIES:Event,Public
END:VEVENT
END:VCALENDAR