BEGIN:VCALENDAR
VERSION:2.0
PRODID:-//Welcome to Godfrey&#039;s Pond - ECPv4.7.3//NONSGML v1.0//EN
CALSCALE:GREGORIAN
METHOD:PUBLISH
X-WR-CALNAME:Welcome to Godfrey&#039;s Pond
X-ORIGINAL-URL:https://godfreyspond.com
X-WR-CALDESC:Events for Welcome to Godfrey&#039;s Pond
BEGIN:VEVENT
DTSTART;TZID=America/New_York:20210620T130000
DTEND;TZID=America/New_York:20210620T170000
DTSTAMP:20260426T021146
CREATED:20210126T145557Z
LAST-MODIFIED:20210618T123422Z
UID:2450-1624194000-1624208400@godfreyspond.com
SUMMARY:Open House & Chicken Barbecue
DESCRIPTION:Welcome and Open House at Godfrey’s Pond. \nChicken Barbecue Fundraiser. \n
URL:https://godfreyspond.com/calendar/open-house-chicken-barbecue/
LOCATION:Godfrey’s Pond\, 7925 Godfrey’s Pond Road\, Bergen\, 14416\, United States
CATEGORIES:Event,Public
ATTACH;FMTTYPE=image/jpeg:https://godfreyspond.com/wp-content/uploads/2020/03/Open-House-2.jpg
END:VEVENT
END:VCALENDAR