BEGIN:VCALENDAR
VERSION:2.0
PRODID:-//Welcome to Godfrey&#039;s Pond - ECPv4.7.3//NONSGML v1.0//EN
CALSCALE:GREGORIAN
METHOD:PUBLISH
X-WR-CALNAME:Welcome to Godfrey&#039;s Pond
X-ORIGINAL-URL:https://godfreyspond.com
X-WR-CALDESC:Events for Welcome to Godfrey&#039;s Pond
BEGIN:VEVENT
DTSTART;TZID=America/New_York:20240803T090000
DTEND;TZID=America/New_York:20240803T110000
DTSTAMP:20260420T202538
CREATED:20231116T143233Z
LAST-MODIFIED:20240312T204949Z
UID:5014-1722675600-1722682800@godfreyspond.com
SUMMARY:Paul R. Wood Fishing Derby!
DESCRIPTION:This annual event is a very family-friendly event and we hope you’ll engage your family in it!  Fish for prizes among various age groups and categories.  Each participant will receive a takeaway.  We hope for a beautiful day!  See you then! \n
URL:https://godfreyspond.com/calendar/paul-r-wood-fishing-derby/
LOCATION:Godfrey’s Pond\, 7925 Godfrey’s Pond Road\, Bergen\, 14416\, United States
CATEGORIES:Event,Public
ATTACH;FMTTYPE=image/jpeg:https://godfreyspond.com/wp-content/uploads/2023/02/Fishing-derby.jpg
END:VEVENT
END:VCALENDAR