BEGIN:VCALENDAR
VERSION:2.0
PRODID:-//Welcome to Godfrey&#039;s Pond - ECPv4.7.3//NONSGML v1.0//EN
CALSCALE:GREGORIAN
METHOD:PUBLISH
X-WR-CALNAME:Welcome to Godfrey&#039;s Pond
X-ORIGINAL-URL:https://godfreyspond.com
X-WR-CALDESC:Events for Welcome to Godfrey&#039;s Pond
BEGIN:VEVENT
DTSTART;TZID=America/New_York:20230805T090000
DTEND;TZID=America/New_York:20230805T110000
DTSTAMP:20260421T223025
CREATED:20230216T165256Z
LAST-MODIFIED:20230718T160942Z
UID:4387-1691226000-1691233200@godfreyspond.com
SUMMARY:Paul Wood Fishing Derby!
DESCRIPTION:This is a well-attended event in memory of Paul Wood who was a long-term member of Godfrey’s Pond and loved everything about fishing!  Please join us with your families and kids to experience the fun sport of fishing.  Bring your own bucket to hold your freshly-caught fish and enjoy the challenge with others by winning various categories and receiving prizes!  Meet us down by the Pond! \n
URL:https://godfreyspond.com/calendar/paul-wood-fishing-derby/
LOCATION:Godfrey’s Pond\, 7925 Godfrey’s Pond Road\, Bergen\, 14416\, United States
CATEGORIES:Event,Public
ATTACH;FMTTYPE=image/jpeg:https://godfreyspond.com/wp-content/uploads/2023/02/Fishing-derby.jpg
END:VEVENT
END:VCALENDAR