BEGIN:VCALENDAR
VERSION:2.0
PRODID:-//Welcome to Godfrey&#039;s Pond - ECPv4.7.3//NONSGML v1.0//EN
CALSCALE:GREGORIAN
METHOD:PUBLISH
X-WR-CALNAME:Welcome to Godfrey&#039;s Pond
X-ORIGINAL-URL:https://godfreyspond.com
X-WR-CALDESC:Events for Welcome to Godfrey&#039;s Pond
BEGIN:VEVENT
DTSTART;TZID=America/New_York:20220716T090000
DTEND;TZID=America/New_York:20220716T210000
DTSTAMP:20260425T173524
CREATED:20220218T182736Z
LAST-MODIFIED:20220506T120011Z
UID:3604-1657962000-1658005200@godfreyspond.com
SUMMARY:Pratt Pavilion Reserved
DESCRIPTION:Pratt Pavilion Reserved \nZipfel \n9:00am- 9:00pm \n
URL:https://godfreyspond.com/calendar/pratt-pavilion-reserved-14/
CATEGORIES:Reservations
END:VEVENT
END:VCALENDAR