BEGIN:VCALENDAR
VERSION:2.0
PRODID:-//Welcome to Godfrey&#039;s Pond - ECPv4.7.3//NONSGML v1.0//EN
CALSCALE:GREGORIAN
METHOD:PUBLISH
X-WR-CALNAME:Welcome to Godfrey&#039;s Pond
X-ORIGINAL-URL:https://godfreyspond.com
X-WR-CALDESC:Events for Welcome to Godfrey&#039;s Pond
BEGIN:VEVENT
DTSTART;TZID=America/New_York:20220821T100000
DTEND;TZID=America/New_York:20220821T190000
DTSTAMP:20260425T035905
CREATED:20220503T231721Z
LAST-MODIFIED:20220506T120327Z
UID:3850-1661076000-1661108400@godfreyspond.com
SUMMARY:Pratt Pavilion Reserved
DESCRIPTION:Pratt Pavilion Reserved \nLauria \n10:00am- 7:00pm \n
URL:https://godfreyspond.com/calendar/pratt-pavilion-reserved-19/
CATEGORIES:Reservations
END:VEVENT
END:VCALENDAR