BEGIN:VCALENDAR
VERSION:2.0
PRODID:-//Welcome to Godfrey&#039;s Pond - ECPv4.7.3//NONSGML v1.0//EN
CALSCALE:GREGORIAN
METHOD:PUBLISH
X-WR-CALNAME:Welcome to Godfrey&#039;s Pond
X-ORIGINAL-URL:https://godfreyspond.com
X-WR-CALDESC:Events for Welcome to Godfrey&#039;s Pond
BEGIN:VEVENT
DTSTART;TZID=America/New_York:20220706T130000
DTEND;TZID=America/New_York:20220706T200000
DTSTAMP:20260425T113926
CREATED:20220420T213606Z
LAST-MODIFIED:20220506T115927Z
UID:3728-1657112400-1657137600@godfreyspond.com
SUMMARY:Pratt Pavilion Reserved
DESCRIPTION:Pratt Pavilion Reserved \nTanner \n1:00pm- 8:00pm \n
URL:https://godfreyspond.com/calendar/pratt-pavilion-reserved-24/
CATEGORIES:Reservations
END:VEVENT
END:VCALENDAR