BEGIN:VCALENDAR
VERSION:2.0
PRODID:-//Welcome to Godfrey&#039;s Pond - ECPv4.7.3//NONSGML v1.0//EN
CALSCALE:GREGORIAN
METHOD:PUBLISH
X-WR-CALNAME:Welcome to Godfrey&#039;s Pond
X-ORIGINAL-URL:https://godfreyspond.com
X-WR-CALDESC:Events for Welcome to Godfrey&#039;s Pond
BEGIN:VEVENT
DTSTART;TZID=America/New_York:20220703T120000
DTEND;TZID=America/New_York:20220703T180000
DTSTAMP:20260425T042233
CREATED:20220513T220126Z
LAST-MODIFIED:20220525T105251Z
UID:3881-1656849600-1656871200@godfreyspond.com
SUMMARY:Pratt Pavilion Reserved
DESCRIPTION:Pratt Pavilion Reserved \nShowler \n12:00pm- 6:00pm \n
URL:https://godfreyspond.com/calendar/pratt-pavilion-reserved-26/
CATEGORIES:Reservations
END:VEVENT
END:VCALENDAR