BEGIN:VCALENDAR
VERSION:2.0
PRODID:-//Welcome to Godfrey&#039;s Pond - ECPv4.7.3//NONSGML v1.0//EN
CALSCALE:GREGORIAN
METHOD:PUBLISH
X-WR-CALNAME:Welcome to Godfrey&#039;s Pond
X-ORIGINAL-URL:https://godfreyspond.com
X-WR-CALDESC:Events for Welcome to Godfrey&#039;s Pond
BEGIN:VEVENT
DTSTART;TZID=America/New_York:20221015T140000
DTEND;TZID=America/New_York:20221015T170000
DTSTAMP:20260424T232708
CREATED:20221013T175548Z
LAST-MODIFIED:20221013T175548Z
UID:4121-1665842400-1665853200@godfreyspond.com
SUMMARY:Pratt Pavilion Reserved
DESCRIPTION:Pratt Pavilion reserved \nEberhardt \n2pm- 5pm \n
URL:https://godfreyspond.com/calendar/pratt-pavilion-reserved-28/
CATEGORIES:Public,Reservations
END:VEVENT
END:VCALENDAR