BEGIN:VCALENDAR
VERSION:2.0
PRODID:-//Welcome to Godfrey&#039;s Pond - ECPv4.7.3//NONSGML v1.0//EN
CALSCALE:GREGORIAN
METHOD:PUBLISH
X-WR-CALNAME:Welcome to Godfrey&#039;s Pond
X-ORIGINAL-URL:https://godfreyspond.com
X-WR-CALDESC:Events for Welcome to Godfrey&#039;s Pond
BEGIN:VEVENT
DTSTART;TZID=America/New_York:20230806T100000
DTEND;TZID=America/New_York:20230806T220000
DTSTAMP:20260421T222235
CREATED:20230621T214534Z
LAST-MODIFIED:20230621T214534Z
UID:4669-1691316000-1691359200@godfreyspond.com
SUMMARY:Pratt Pavilion reserved
DESCRIPTION:Pratt Pavilion Reserved \nHavens \n10:00am- 10:00pm \n
URL:https://godfreyspond.com/calendar/pratt-pavilion-reserved-29/
CATEGORIES:Public,Reservations
END:VEVENT
END:VCALENDAR