BEGIN:VCALENDAR
VERSION:2.0
PRODID:-//Welcome to Godfrey&#039;s Pond - ECPv4.7.3//NONSGML v1.0//EN
CALSCALE:GREGORIAN
METHOD:PUBLISH
X-WR-CALNAME:Welcome to Godfrey&#039;s Pond
X-ORIGINAL-URL:https://godfreyspond.com
X-WR-CALDESC:Events for Welcome to Godfrey&#039;s Pond
BEGIN:VEVENT
DTSTART;TZID=America/New_York:20230715T090000
DTEND;TZID=America/New_York:20230715T220000
DTSTAMP:20260422T000322
CREATED:20230210T171724Z
LAST-MODIFIED:20230216T160455Z
UID:4325-1689411600-1689458400@godfreyspond.com
SUMMARY:Pratt Pavilion Reserved
DESCRIPTION:Pratt Pavilion Reserved \nZipfel \n9:00am- 10:00pm \n
URL:https://godfreyspond.com/calendar/pratt-pavilion-reserved-34/
CATEGORIES:Reservations
END:VEVENT
END:VCALENDAR