BEGIN:VCALENDAR
VERSION:2.0
PRODID:-//Welcome to Godfrey&#039;s Pond - ECPv4.7.3//NONSGML v1.0//EN
CALSCALE:GREGORIAN
METHOD:PUBLISH
X-WR-CALNAME:Welcome to Godfrey&#039;s Pond
X-ORIGINAL-URL:https://godfreyspond.com
X-WR-CALDESC:Events for Welcome to Godfrey&#039;s Pond
BEGIN:VEVENT
DTSTART;TZID=America/New_York:20230615T130000
DTEND;TZID=America/New_York:20230615T180000
DTSTAMP:20260424T140239
CREATED:20230609T110411Z
LAST-MODIFIED:20230614T140737Z
UID:4627-1686834000-1686852000@godfreyspond.com
SUMMARY:Pratt Pavilion reserved
DESCRIPTION:Pratt Pavilion Reserved \nPorter- St Paul Lutheran Church \n1:00pm- 6:00pm \n
URL:https://godfreyspond.com/calendar/pratt-pavilion-reserved-41/
CATEGORIES:Reservations
END:VEVENT
END:VCALENDAR