BEGIN:VCALENDAR
VERSION:2.0
PRODID:-//Welcome to Godfrey&#039;s Pond - ECPv4.7.3//NONSGML v1.0//EN
CALSCALE:GREGORIAN
METHOD:PUBLISH
X-WR-CALNAME:Welcome to Godfrey&#039;s Pond
X-ORIGINAL-URL:https://godfreyspond.com
X-WR-CALDESC:Events for Welcome to Godfrey&#039;s Pond
BEGIN:VEVENT
DTSTART;TZID=America/New_York:20230903T100000
DTEND;TZID=America/New_York:20230903T190000
DTSTAMP:20260422T000316
CREATED:20230822T190152Z
LAST-MODIFIED:20230822T190152Z
UID:4844-1693735200-1693767600@godfreyspond.com
SUMMARY:Pratt Pavilion Reserved
DESCRIPTION:Pratt Pavilion Reserved \nLehsten \n10:00am- 7:00pm \n
URL:https://godfreyspond.com/calendar/pratt-pavilion-reserved-43/
CATEGORIES:Public,Reservations
END:VEVENT
END:VCALENDAR