BEGIN:VCALENDAR
VERSION:2.0
PRODID:-//Welcome to Godfrey&#039;s Pond - ECPv4.7.3//NONSGML v1.0//EN
CALSCALE:GREGORIAN
METHOD:PUBLISH
X-WR-CALNAME:Welcome to Godfrey&#039;s Pond
X-ORIGINAL-URL:https://godfreyspond.com
X-WR-CALDESC:Events for Welcome to Godfrey&#039;s Pond
BEGIN:VEVENT
DTSTART;TZID=America/New_York:20240713T090000
DTEND;TZID=America/New_York:20240713T210000
DTSTAMP:20260421T034353
CREATED:20240221T225429Z
LAST-MODIFIED:20240312T211553Z
UID:5212-1720861200-1720904400@godfreyspond.com
SUMMARY:Pratt Pavilion Reserved
DESCRIPTION:Pratt Pavilion Reserved \nZipfel \n9:00am- 9:00pm \n
URL:https://godfreyspond.com/calendar/pratt-pavilion-reserved-51/
CATEGORIES:Reservations
END:VEVENT
END:VCALENDAR