BEGIN:VCALENDAR
VERSION:2.0
PRODID:-//Welcome to Godfrey&#039;s Pond - ECPv4.7.3//NONSGML v1.0//EN
CALSCALE:GREGORIAN
METHOD:PUBLISH
X-WR-CALNAME:Welcome to Godfrey&#039;s Pond
X-ORIGINAL-URL:https://godfreyspond.com
X-WR-CALDESC:Events for Welcome to Godfrey&#039;s Pond
BEGIN:VEVENT
DTSTART;TZID=America/New_York:20240810T090000
DTEND;TZID=America/New_York:20240810T190000
DTSTAMP:20260421T052154
CREATED:20240305T024444Z
LAST-MODIFIED:20240312T211641Z
UID:5247-1723280400-1723316400@godfreyspond.com
SUMMARY:Pratt Pavilion Reserved
DESCRIPTION:Pratt Pavilion Reserved \nMartin \n9:00am- 7:00pm \n
URL:https://godfreyspond.com/calendar/pratt-pavilion-reserved-53/
CATEGORIES:Reservations
END:VEVENT
END:VCALENDAR