BEGIN:VCALENDAR
VERSION:2.0
PRODID:-//Welcome to Godfrey&#039;s Pond - ECPv4.7.3//NONSGML v1.0//EN
CALSCALE:GREGORIAN
METHOD:PUBLISH
X-WR-CALNAME:Welcome to Godfrey&#039;s Pond
X-ORIGINAL-URL:https://godfreyspond.com
X-WR-CALDESC:Events for Welcome to Godfrey&#039;s Pond
BEGIN:VEVENT
DTSTART;TZID=America/New_York:20240824T130000
DTEND;TZID=America/New_York:20240824T160000
DTSTAMP:20260421T015320
CREATED:20240421T142740Z
LAST-MODIFIED:20240421T142740Z
UID:5474-1724504400-1724515200@godfreyspond.com
SUMMARY:Pratt Pavilion Reserved
DESCRIPTION:Pratt Pavilion Reserved \nEberhardt \n1:00pm- 4:00pm \n
URL:https://godfreyspond.com/calendar/pratt-pavilion-reserved-55/
CATEGORIES:Public,Reservations
END:VEVENT
END:VCALENDAR