BEGIN:VCALENDAR
VERSION:2.0
PRODID:-//Welcome to Godfrey&#039;s Pond - ECPv4.7.3//NONSGML v1.0//EN
CALSCALE:GREGORIAN
METHOD:PUBLISH
X-WR-CALNAME:Welcome to Godfrey&#039;s Pond
X-ORIGINAL-URL:https://godfreyspond.com
X-WR-CALDESC:Events for Welcome to Godfrey&#039;s Pond
BEGIN:VEVENT
DTSTART;TZID=America/New_York:20240629T120000
DTEND;TZID=America/New_York:20240629T160000
DTSTAMP:20260421T085748
CREATED:20240412T221408Z
LAST-MODIFIED:20240527T223138Z
UID:5445-1719662400-1719676800@godfreyspond.com
SUMMARY:Pratt Pavilion Reserved
DESCRIPTION:Pratt Pavilion Reserved \nInsogna \n12pm- 4pm \n
URL:https://godfreyspond.com/calendar/pratt-pavilion-reserved-58/
CATEGORIES:Reservations
END:VEVENT
END:VCALENDAR