BEGIN:VCALENDAR
VERSION:2.0
PRODID:-//Welcome to Godfrey&#039;s Pond - ECPv4.7.3//NONSGML v1.0//EN
CALSCALE:GREGORIAN
METHOD:PUBLISH
X-WR-CALNAME:Welcome to Godfrey&#039;s Pond
X-ORIGINAL-URL:https://godfreyspond.com
X-WR-CALDESC:Events for Welcome to Godfrey&#039;s Pond
BEGIN:VEVENT
DTSTART;TZID=America/New_York:20240817T110000
DTEND;TZID=America/New_York:20240817T190000
DTSTAMP:20260421T014159
CREATED:20240428T012731Z
LAST-MODIFIED:20240428T012731Z
UID:5480-1723892400-1723921200@godfreyspond.com
SUMMARY:Pratt Pavilion Reserved
DESCRIPTION:Pratt Pavilion Reserved \nShowler \n11:00am- 7:00pm \n
URL:https://godfreyspond.com/calendar/pratt-pavilion-reserved-59/
CATEGORIES:Public,Reservations
END:VEVENT
END:VCALENDAR