BEGIN:VCALENDAR
VERSION:2.0
PRODID:-//Welcome to Godfrey&#039;s Pond - ECPv4.7.3//NONSGML v1.0//EN
CALSCALE:GREGORIAN
METHOD:PUBLISH
X-WR-CALNAME:Welcome to Godfrey&#039;s Pond
X-ORIGINAL-URL:https://godfreyspond.com
X-WR-CALDESC:Events for Welcome to Godfrey&#039;s Pond
BEGIN:VEVENT
DTSTART;TZID=America/New_York:20240601T120000
DTEND;TZID=America/New_York:20240601T160000
DTSTAMP:20260421T033422
CREATED:20240531T012418Z
LAST-MODIFIED:20240531T012632Z
UID:5659-1717243200-1717257600@godfreyspond.com
SUMMARY:Pratt Pavilion Reserved
DESCRIPTION:Pratt Pavilion Reserved \nBedard \n12pm- 4pm \n
URL:https://godfreyspond.com/calendar/pratt-pavilion-reserved-62/
CATEGORIES:Public,Reservations
END:VEVENT
END:VCALENDAR