BEGIN:VCALENDAR
VERSION:2.0
PRODID:-//Welcome to Godfrey&#039;s Pond - ECPv4.7.3//NONSGML v1.0//EN
CALSCALE:GREGORIAN
METHOD:PUBLISH
X-WR-CALNAME:Welcome to Godfrey&#039;s Pond
X-ORIGINAL-URL:https://godfreyspond.com
X-WR-CALDESC:Events for Welcome to Godfrey&#039;s Pond
BEGIN:VEVENT
DTSTART;TZID=America/New_York:20240707T100000
DTEND;TZID=America/New_York:20240707T190000
DTSTAMP:20260421T015330
CREATED:20240531T012541Z
LAST-MODIFIED:20240531T012541Z
UID:5661-1720346400-1720378800@godfreyspond.com
SUMMARY:Pratt Pavilion Reserved
DESCRIPTION:Pratt Pavilion Reserved \nCanfield \n10:00am- 7:00pm \n
URL:https://godfreyspond.com/calendar/pratt-pavilion-reserved-63/
CATEGORIES:Public,Reservations
END:VEVENT
END:VCALENDAR