BEGIN:VCALENDAR
VERSION:2.0
PRODID:-//Welcome to Godfrey&#039;s Pond - ECPv4.7.3//NONSGML v1.0//EN
CALSCALE:GREGORIAN
METHOD:PUBLISH
X-WR-CALNAME:Welcome to Godfrey&#039;s Pond
X-ORIGINAL-URL:https://godfreyspond.com
X-WR-CALDESC:Events for Welcome to Godfrey&#039;s Pond
BEGIN:VEVENT
DTSTART;TZID=America/New_York:20230917T070000
DTEND;TZID=America/New_York:20230917T180000
DTSTAMP:20260421T184640
CREATED:20230804T004243Z
LAST-MODIFIED:20230804T004243Z
UID:4746-1694934000-1694973600@godfreyspond.com
SUMMARY:Pratt\, Ruckle\, Vukman\, Clubhouse\, Sloat Pavilions Reserved
DESCRIPTION:Pratt\, Ruckle\, Vukman\, Clubhouse\, Sloat Pavilions Reserved \nHFD/Fall Festival \nAll Day \n
URL:https://godfreyspond.com/calendar/pratt-ruckle-vukman-clubhouse-sloat-pavilions-reserved-3/
CATEGORIES:Event,Reservations
END:VEVENT
END:VCALENDAR