BEGIN:VCALENDAR
VERSION:2.0
PRODID:-//Welcome to Godfrey&#039;s Pond - ECPv4.7.3//NONSGML v1.0//EN
CALSCALE:GREGORIAN
METHOD:PUBLISH
X-WR-CALNAME:Welcome to Godfrey&#039;s Pond
X-ORIGINAL-URL:https://godfreyspond.com
X-WR-CALDESC:Events for Welcome to Godfrey&#039;s Pond
BEGIN:VEVENT
DTSTART;TZID=America/New_York:20210918T080000
DTEND;TZID=America/New_York:20210919T190000
DTSTAMP:20260425T224117
CREATED:20210608T125253Z
LAST-MODIFIED:20210716T152412Z
UID:2824-1631952000-1632078000@godfreyspond.com
SUMMARY:Pratt\, Ruckle\, Vukman\, Clubhouse\, Sloat Pavilions reserved
DESCRIPTION:Pratt\, Ruckle\, Vukman\, Clubhouse\, Sloat Pavilions Reserved \nHFD/Fall Festival \nAll Day \n
URL:https://godfreyspond.com/calendar/pratt-ruckle-vukman-clubhouse-sloat-pavilions-reserved/
CATEGORIES:Reservations
END:VEVENT
END:VCALENDAR