BEGIN:VCALENDAR
VERSION:2.0
PRODID:-//Welcome to Godfrey&#039;s Pond - ECPv4.7.3//NONSGML v1.0//EN
CALSCALE:GREGORIAN
METHOD:PUBLISH
X-WR-CALNAME:Welcome to Godfrey&#039;s Pond
X-ORIGINAL-URL:https://godfreyspond.com
X-WR-CALDESC:Events for Welcome to Godfrey&#039;s Pond
BEGIN:VEVENT
DTSTART;TZID=America/New_York:20240309T140000
DTEND;TZID=America/New_York:20240309T160000
DTSTAMP:20260421T103338
CREATED:20231116T132812Z
LAST-MODIFIED:20240312T144131Z
UID:4964-1709992800-1710000000@godfreyspond.com
SUMMARY:Prep:  Easter Egg Stuffing
DESCRIPTION:Committee to meet in Board Room to stuff Easter Eggs for Easter Egg Hunt to be held on Saturday\, March 9\, 2024.  (Coordinator:  Tom Weeks) \n
URL:https://godfreyspond.com/calendar/prep-easter-egg-stuffing/
LOCATION:Godfrey’s Pond\, 7925 Godfrey’s Pond Road\, Bergen\, 14416\, United States
CATEGORIES:Reservations
END:VEVENT
END:VCALENDAR