BEGIN:VCALENDAR
VERSION:2.0
PRODID:-//Welcome to Godfrey&#039;s Pond - ECPv4.7.3//NONSGML v1.0//EN
CALSCALE:GREGORIAN
METHOD:PUBLISH
X-WR-CALNAME:Welcome to Godfrey&#039;s Pond
X-ORIGINAL-URL:https://godfreyspond.com
X-WR-CALDESC:Events for Welcome to Godfrey&#039;s Pond
BEGIN:VEVENT
DTSTART;TZID=America/New_York:20230430T090000
DTEND;TZID=America/New_York:20230430T120000
DTSTAMP:20260424T102154
CREATED:20230216T162108Z
LAST-MODIFIED:20230216T162108Z
UID:4363-1682845200-1682856000@godfreyspond.com
SUMMARY:RAIN DATE:  Camp Clean-Up
DESCRIPTION:
URL:https://godfreyspond.com/calendar/rain-date-camp-clean-up/
LOCATION:Godfrey’s Pond\, 7925 Godfrey’s Pond Road\, Bergen\, 14416\, United States
CATEGORIES:Event
ATTACH;FMTTYPE=image/jpeg:https://godfreyspond.com/wp-content/uploads/2023/02/Outdoor-cleanup.jpg
END:VEVENT
END:VCALENDAR