BEGIN:VCALENDAR
VERSION:2.0
PRODID:-//Welcome to Godfrey&#039;s Pond - ECPv4.7.3//NONSGML v1.0//EN
CALSCALE:GREGORIAN
METHOD:PUBLISH
X-WR-CALNAME:Welcome to Godfrey&#039;s Pond
X-ORIGINAL-URL:https://godfreyspond.com
X-WR-CALDESC:Events for Welcome to Godfrey&#039;s Pond
BEGIN:VEVENT
DTSTART;TZID=America/New_York:20220615T133000
DTEND;TZID=America/New_York:20220615T180000
DTSTAMP:20260425T041156
CREATED:20220519T123727Z
LAST-MODIFIED:20220519T123727Z
UID:3889-1655299800-1655316000@godfreyspond.com
SUMMARY:Range Closed
DESCRIPTION:Range Closed \nAGS \n1:30pm- 6:00pm \n
URL:https://godfreyspond.com/calendar/range-closed-10/
CATEGORIES:Event,Public
END:VEVENT
END:VCALENDAR