BEGIN:VCALENDAR
VERSION:2.0
PRODID:-//Welcome to Godfrey&#039;s Pond - ECPv4.7.3//NONSGML v1.0//EN
CALSCALE:GREGORIAN
METHOD:PUBLISH
X-WR-CALNAME:Welcome to Godfrey&#039;s Pond
X-ORIGINAL-URL:https://godfreyspond.com
X-WR-CALDESC:Events for Welcome to Godfrey&#039;s Pond
BEGIN:VEVENT
DTSTART;TZID=America/New_York:20230928T130000
DTEND;TZID=America/New_York:20230928T180000
DTSTAMP:20260421T182535
CREATED:20230908T015619Z
LAST-MODIFIED:20230908T015619Z
UID:4877-1695906000-1695924000@godfreyspond.com
SUMMARY:Range Closed
DESCRIPTION:Range Closed \nAGS \n1:00pm- 6:00pm \n
URL:https://godfreyspond.com/calendar/range-closed-24/
CATEGORIES:Event,Reservations
END:VEVENT
END:VCALENDAR