BEGIN:VCALENDAR
VERSION:2.0
PRODID:-//Welcome to Godfrey&#039;s Pond - ECPv4.7.3//NONSGML v1.0//EN
CALSCALE:GREGORIAN
METHOD:PUBLISH
X-WR-CALNAME:Welcome to Godfrey&#039;s Pond
X-ORIGINAL-URL:https://godfreyspond.com
X-WR-CALDESC:Events for Welcome to Godfrey&#039;s Pond
BEGIN:VEVENT
DTSTART;TZID=America/New_York:20240910T133000
DTEND;TZID=America/New_York:20240910T180000
DTSTAMP:20260421T102058
CREATED:20240907T150447Z
LAST-MODIFIED:20240907T150447Z
UID:5982-1725975000-1725991200@godfreyspond.com
SUMMARY:Range Closed
DESCRIPTION:Range Closed \nAGS \n
URL:https://godfreyspond.com/calendar/range-closed-32/
CATEGORIES:Public,Reservations
END:VEVENT
END:VCALENDAR