BEGIN:VCALENDAR
VERSION:2.0
PRODID:-//Welcome to Godfrey&#039;s Pond - ECPv4.7.3//NONSGML v1.0//EN
CALSCALE:GREGORIAN
METHOD:PUBLISH
X-WR-CALNAME:Welcome to Godfrey&#039;s Pond
X-ORIGINAL-URL:https://godfreyspond.com
X-WR-CALDESC:Events for Welcome to Godfrey&#039;s Pond
BEGIN:VEVENT
DTSTART;TZID=America/New_York:20210821T170000
DTEND;TZID=America/New_York:20210821T200000
DTSTAMP:20260426T001258
CREATED:20210126T150750Z
LAST-MODIFIED:20210716T153015Z
UID:2461-1629565200-1629576000@godfreyspond.com
SUMMARY:Ron Drock Memorial Kids Carnival
DESCRIPTION:CAMPERS and RESIDENTS: \n
URL:https://godfreyspond.com/calendar/ron-drock-memorial-kids-carnival/
LOCATION:Godfrey’s Pond\, 7925 Godfrey’s Pond Road\, Bergen\, 14416\, United States
CATEGORIES:Event,Public
ATTACH;FMTTYPE=image/png:https://godfreyspond.com/wp-content/uploads/2019/07/Carnival.png
END:VEVENT
END:VCALENDAR