BEGIN:VCALENDAR
VERSION:2.0
PRODID:-//Welcome to Godfrey&#039;s Pond - ECPv4.7.3//NONSGML v1.0//EN
CALSCALE:GREGORIAN
METHOD:PUBLISH
X-WR-CALNAME:Welcome to Godfrey&#039;s Pond
X-ORIGINAL-URL:https://godfreyspond.com
X-WR-CALDESC:Events for Welcome to Godfrey&#039;s Pond
BEGIN:VEVENT
DTSTART;TZID=America/New_York:20211009T100000
DTEND;TZID=America/New_York:20211009T150000
DTSTAMP:20260426T002905
CREATED:20210930T221513Z
LAST-MODIFIED:20210930T221513Z
UID:3194-1633773600-1633791600@godfreyspond.com
SUMMARY:Ruckle Pavilion Reserved
DESCRIPTION:Ruckle Pavilion Reserved \nMaher \n10:00am- 3:00pm \n
URL:https://godfreyspond.com/calendar/ruckle-pavilion-reserved-12/
CATEGORIES:Public,Reservations
END:VEVENT
END:VCALENDAR