BEGIN:VCALENDAR
VERSION:2.0
PRODID:-//Welcome to Godfrey&#039;s Pond - ECPv4.7.3//NONSGML v1.0//EN
CALSCALE:GREGORIAN
METHOD:PUBLISH
X-WR-CALNAME:Welcome to Godfrey&#039;s Pond
X-ORIGINAL-URL:https://godfreyspond.com
X-WR-CALDESC:Events for Welcome to Godfrey&#039;s Pond
BEGIN:VEVENT
DTSTART;TZID=America/New_York:20210807T100000
DTEND;TZID=America/New_York:20210807T210000
DTSTAMP:20260426T040338
CREATED:20210318T133337Z
LAST-MODIFIED:20210716T152125Z
UID:2625-1628330400-1628370000@godfreyspond.com
SUMMARY:Ruckle Pavilion Reserved
DESCRIPTION:Ruckle Pavilion Reserved \nBauer \n10:00am- 9:00pm \n
URL:https://godfreyspond.com/calendar/ruckle-pavilion-reserved-2/
CATEGORIES:Reservations
END:VEVENT
END:VCALENDAR