BEGIN:VCALENDAR
VERSION:2.0
PRODID:-//Welcome to Godfrey&#039;s Pond - ECPv4.7.3//NONSGML v1.0//EN
CALSCALE:GREGORIAN
METHOD:PUBLISH
X-WR-CALNAME:Welcome to Godfrey&#039;s Pond
X-ORIGINAL-URL:https://godfreyspond.com
X-WR-CALDESC:Events for Welcome to Godfrey&#039;s Pond
BEGIN:VEVENT
DTSTART;TZID=America/New_York:20230603T123000
DTEND;TZID=America/New_York:20230603T170000
DTSTAMP:20260424T164112
CREATED:20230525T183456Z
LAST-MODIFIED:20230525T183456Z
UID:4590-1685795400-1685811600@godfreyspond.com
SUMMARY:Ruckle Pavilion Reserved
DESCRIPTION:Ruckle Pavilion Reserved \nTerry \n12:30pm- 5:00pm \n
URL:https://godfreyspond.com/calendar/ruckle-pavilion-reserved-22/
CATEGORIES:Public,Reservations
END:VEVENT
END:VCALENDAR