BEGIN:VCALENDAR
VERSION:2.0
PRODID:-//Welcome to Godfrey&#039;s Pond - ECPv4.7.3//NONSGML v1.0//EN
CALSCALE:GREGORIAN
METHOD:PUBLISH
X-WR-CALNAME:Welcome to Godfrey&#039;s Pond
X-ORIGINAL-URL:https://godfreyspond.com
X-WR-CALDESC:Events for Welcome to Godfrey&#039;s Pond
BEGIN:VEVENT
DTSTART;TZID=America/New_York:20230819T090000
DTEND;TZID=America/New_York:20230819T210000
DTSTAMP:20260424T175801
CREATED:20230711T204802Z
LAST-MODIFIED:20230711T204802Z
UID:4704-1692435600-1692478800@godfreyspond.com
SUMMARY:Ruckle Pavilion Reserved
DESCRIPTION:Ruckle pavilion Reserved \nLaird \n9:00am- 9:00pm \n
URL:https://godfreyspond.com/calendar/ruckle-pavilion-reserved-26/
CATEGORIES:Public,Reservations
END:VEVENT
END:VCALENDAR