BEGIN:VCALENDAR
VERSION:2.0
PRODID:-//Welcome to Godfrey&#039;s Pond - ECPv4.7.3//NONSGML v1.0//EN
CALSCALE:GREGORIAN
METHOD:PUBLISH
X-WR-CALNAME:Welcome to Godfrey&#039;s Pond
X-ORIGINAL-URL:https://godfreyspond.com
X-WR-CALDESC:Events for Welcome to Godfrey&#039;s Pond
BEGIN:VEVENT
DTSTART;TZID=America/New_York:20231014T110000
DTEND;TZID=America/New_York:20231014T140000
DTSTAMP:20260421T215854
CREATED:20230920T211636Z
LAST-MODIFIED:20230920T211636Z
UID:4902-1697281200-1697292000@godfreyspond.com
SUMMARY:Ruckle pavilion Reserved
DESCRIPTION:Ruckle Pavilion Reserved \nMaher \n11:00am- 2:00pm \n
URL:https://godfreyspond.com/calendar/ruckle-pavilion-reserved-28/
CATEGORIES:Public,Reservations
END:VEVENT
END:VCALENDAR