BEGIN:VCALENDAR
VERSION:2.0
PRODID:-//Welcome to Godfrey&#039;s Pond - ECPv4.7.3//NONSGML v1.0//EN
CALSCALE:GREGORIAN
METHOD:PUBLISH
X-WR-CALNAME:Welcome to Godfrey&#039;s Pond
X-ORIGINAL-URL:https://godfreyspond.com
X-WR-CALDESC:Events for Welcome to Godfrey&#039;s Pond
BEGIN:VEVENT
DTSTART;TZID=America/New_York:20240525T120000
DTEND;TZID=America/New_York:20240525T170000
DTSTAMP:20260421T054029
CREATED:20240510T112526Z
LAST-MODIFIED:20240510T220607Z
UID:5507-1716638400-1716656400@godfreyspond.com
SUMMARY:Ruckle Pavilion Reserved
DESCRIPTION:Ruckle Pavilion Resereved \nSacheli \n12:00pm- 5:00pm \n
URL:https://godfreyspond.com/calendar/ruckle-pavilion-reserved-31/
CATEGORIES:Public,Reservations
END:VEVENT
END:VCALENDAR