BEGIN:VCALENDAR
VERSION:2.0
PRODID:-//Welcome to Godfrey&#039;s Pond - ECPv4.7.3//NONSGML v1.0//EN
CALSCALE:GREGORIAN
METHOD:PUBLISH
X-WR-CALNAME:Welcome to Godfrey&#039;s Pond
X-ORIGINAL-URL:https://godfreyspond.com
X-WR-CALDESC:Events for Welcome to Godfrey&#039;s Pond
BEGIN:VEVENT
DTSTART;TZID=America/New_York:20240720T130000
DTEND;TZID=America/New_York:20240720T143000
DTSTAMP:20260421T015451
CREATED:20231116T142629Z
LAST-MODIFIED:20240312T170526Z
UID:5009-1721480400-1721485800@godfreyspond.com
SUMMARY:Scavenger Hunt and Crafts!
DESCRIPTION:Another fun event for families!  Watch for more details as the date approaches down by the Pond Snack Shack. \n
URL:https://godfreyspond.com/calendar/scavenger-hunt-and-crafts/
LOCATION:Godfrey’s Pond\, 7925 Godfrey’s Pond Road\, Bergen\, 14416\, United States
CATEGORIES:Event
ATTACH;FMTTYPE=image/jpeg:https://godfreyspond.com/wp-content/uploads/2024/03/Scavenger-hunt.jpg
END:VEVENT
END:VCALENDAR