BEGIN:VCALENDAR
VERSION:2.0
PRODID:-//Welcome to Godfrey&#039;s Pond - ECPv4.7.3//NONSGML v1.0//EN
CALSCALE:GREGORIAN
METHOD:PUBLISH
X-WR-CALNAME:Welcome to Godfrey&#039;s Pond
X-ORIGINAL-URL:https://godfreyspond.com
X-WR-CALDESC:Events for Welcome to Godfrey&#039;s Pond
BEGIN:VEVENT
DTSTART;TZID=America/New_York:20240715T070000
DTEND;TZID=America/New_York:20240719T180000
DTSTAMP:20260421T073552
CREATED:20240515T013418Z
LAST-MODIFIED:20240515T013418Z
UID:5517-1721026800-1721412000@godfreyspond.com
SUMMARY:Seneca District Cub Scout Day Camp
DESCRIPTION:Pratt\, Ruckle\, Vukman pavilions and Clubhouse Reserved \nJuly 15- 16\, 2024 \n7:00am- 6:00pm \n
URL:https://godfreyspond.com/calendar/seneca-district-cub-scout-day-camp/
CATEGORIES:Public,Reservations
END:VEVENT
END:VCALENDAR